BEGIN:VCALENDAR
VERSION:2.0
PRODID:-//REMAX Canada Agent Broker Hub - ECPv6.15.17.1//NONSGML v1.0//EN
CALSCALE:GREGORIAN
METHOD:PUBLISH
X-WR-CALNAME:REMAX Canada Agent Broker Hub
X-ORIGINAL-URL:https://agentbrokerhub.remax.ca
X-WR-CALDESC:Events for REMAX Canada Agent Broker Hub
REFRESH-INTERVAL;VALUE=DURATION:PT1H
X-Robots-Tag:noindex
X-PUBLISHED-TTL:PT1H
BEGIN:VTIMEZONE
TZID:America/Toronto
BEGIN:DAYLIGHT
TZOFFSETFROM:-0500
TZOFFSETTO:-0400
TZNAME:EDT
DTSTART:20250309T070000
END:DAYLIGHT
BEGIN:STANDARD
TZOFFSETFROM:-0400
TZOFFSETTO:-0500
TZNAME:EST
DTSTART:20251102T060000
END:STANDARD
BEGIN:DAYLIGHT
TZOFFSETFROM:-0500
TZOFFSETTO:-0400
TZNAME:EDT
DTSTART:20260308T070000
END:DAYLIGHT
BEGIN:STANDARD
TZOFFSETFROM:-0400
TZOFFSETTO:-0500
TZNAME:EST
DTSTART:20261101T060000
END:STANDARD
BEGIN:DAYLIGHT
TZOFFSETFROM:-0500
TZOFFSETTO:-0400
TZNAME:EDT
DTSTART:20270314T070000
END:DAYLIGHT
BEGIN:STANDARD
TZOFFSETFROM:-0400
TZOFFSETTO:-0500
TZNAME:EST
DTSTART:20271107T060000
END:STANDARD
END:VTIMEZONE
BEGIN:VEVENT
DTSTART;TZID=America/Toronto:20261013T113000
DTEND;TZID=America/Toronto:20261013T113000
DTSTAMP:20260422T062008
CREATED:20260319T164613Z
LAST-MODIFIED:20260319T164613Z
UID:10000702-1791891000-1791891000@agentbrokerhub.remax.ca
SUMMARY:Unstoppable Growth Calls
DESCRIPTION:During these one-hour Unstoppable Growth Calls gain insights and strategies for growing your REMAX brokerage or team. Hear growth-focused broker/owners and team leaders share their best practices for growth. Get the latest competitive intelligence. Review and learn how to leverage REMAX recruiting tools. Build a growth-minded community of other like-minded broker/owners and team leaders! 
URL:https://agentbrokerhub.remax.ca/event/unstoppable-growth-calls-oct/
CATEGORIES:Training,Broker/Owner,MAX/Recruit,Luxury
ATTACH;FMTTYPE=image/png:https://res.cloudinary.com/remax-prod/images/f_auto,q_auto/v1773938519/abh-canada-prod/Cream-black-with-large-balloon-4-1/Cream-black-with-large-balloon-4-1.png?_i=AA
END:VEVENT
BEGIN:VEVENT
DTSTART;VALUE=DATE:20261020
DTEND;VALUE=DATE:20261023
DTSTAMP:20260422T062008
CREATED:20260311T211016Z
LAST-MODIFIED:20260311T211104Z
UID:10000697-1792454400-1792713599@agentbrokerhub.remax.ca
SUMMARY:2026 REMAX Elite Retreat
DESCRIPTION:October 20-22\, 2026\n2026 REMAX Elite Retreat in Fairmont Mayakoba\, Riviera Maya\, Mexico \n \nDetails: \nOnline registration to open in June\, 2026. \nInvitation Only – open to 2025 REMAX Pinnacle\, Diamond\, Titan\, or Chairman Award recipients.
URL:https://agentbrokerhub.remax.ca/event/2026-remax-elite-retreat/
LOCATION:Fairmont Mayakoba\, Riviera Maya\, Mexico\, Carretera Federal Cancún Km 298\, Playa del Carmen\, Quintana Roo\, 77710\, Mexico
ATTACH;FMTTYPE=image/jpeg:https://res.cloudinary.com/remax-prod/images/f_auto,q_auto/v1773263394/abh-canada-prod/2026_Elite_Retreat_Hero_Image/2026_Elite_Retreat_Hero_Image.jpg?_i=AA
END:VEVENT
END:VCALENDAR