BEGIN:VCALENDAR
VERSION:2.0
PRODID:-//REMAX Canada Agent Broker Hub - ECPv6.15.17.1//NONSGML v1.0//EN
CALSCALE:GREGORIAN
METHOD:PUBLISH
X-WR-CALNAME:REMAX Canada Agent Broker Hub
X-ORIGINAL-URL:https://agentbrokerhub.remax.ca
X-WR-CALDESC:Events for REMAX Canada Agent Broker Hub
REFRESH-INTERVAL;VALUE=DURATION:PT1H
X-Robots-Tag:noindex
X-PUBLISHED-TTL:PT1H
BEGIN:VTIMEZONE
TZID:America/Toronto
BEGIN:DAYLIGHT
TZOFFSETFROM:-0500
TZOFFSETTO:-0400
TZNAME:EDT
DTSTART:20250309T070000
END:DAYLIGHT
BEGIN:STANDARD
TZOFFSETFROM:-0400
TZOFFSETTO:-0500
TZNAME:EST
DTSTART:20251102T060000
END:STANDARD
BEGIN:DAYLIGHT
TZOFFSETFROM:-0500
TZOFFSETTO:-0400
TZNAME:EDT
DTSTART:20260308T070000
END:DAYLIGHT
BEGIN:STANDARD
TZOFFSETFROM:-0400
TZOFFSETTO:-0500
TZNAME:EST
DTSTART:20261101T060000
END:STANDARD
BEGIN:DAYLIGHT
TZOFFSETFROM:-0500
TZOFFSETTO:-0400
TZNAME:EDT
DTSTART:20270314T070000
END:DAYLIGHT
BEGIN:STANDARD
TZOFFSETFROM:-0400
TZOFFSETTO:-0500
TZNAME:EST
DTSTART:20271107T060000
END:STANDARD
END:VTIMEZONE
BEGIN:VEVENT
DTSTART;TZID=America/Toronto:20260908T113000
DTEND;TZID=America/Toronto:20260908T113000
DTSTAMP:20260420T084544
CREATED:20260319T164324Z
LAST-MODIFIED:20260319T164324Z
UID:10000701-1788867000-1788867000@agentbrokerhub.remax.ca
SUMMARY:Unstoppable Growth Calls
DESCRIPTION:During these one-hour Unstoppable Growth Calls gain insights and strategies for growing your REMAX brokerage or team. Hear growth-focused broker/owners and team leaders share their best practices for growth. Get the latest competitive intelligence. Review and learn how to leverage REMAX recruiting tools. Build a growth-minded community of other like-minded broker/owners and team leaders! 
URL:https://agentbrokerhub.remax.ca/event/unstoppable-growth-calls-sep/
CATEGORIES:Training,Broker/Owner,MAX/Recruit,Luxury
ATTACH;FMTTYPE=image/png:https://res.cloudinary.com/remax-prod/images/f_auto,q_auto/v1773938519/abh-canada-prod/Cream-black-with-large-balloon-4-1/Cream-black-with-large-balloon-4-1.png?_i=AA
END:VEVENT
BEGIN:VEVENT
DTSTART;VALUE=DATE:20260922
DTEND;VALUE=DATE:20260925
DTSTAMP:20260420T084544
CREATED:20251016T145746Z
LAST-MODIFIED:20251016T145746Z
UID:10000639-1790035200-1790294399@agentbrokerhub.remax.ca
SUMMARY:Save the Date: 2026 REMAX Activate
DESCRIPTION:Stay tuned for registration details!
URL:https://agentbrokerhub.remax.ca/event/save-the-date-2026-remax-activate/
CATEGORIES:Networking,Broker/Owner,Agents
ATTACH;FMTTYPE=image/png:https://res.cloudinary.com/remax-prod/images/f_auto,q_auto/v1760626569/abh-canada-prod/Blog-Headers-39_504209f192/Blog-Headers-39_504209f192.png?_i=AA
END:VEVENT
END:VCALENDAR