BEGIN:VCALENDAR
VERSION:2.0
PRODID:-//REMAX Canada Agent Broker Hub - ECPv6.15.17.1//NONSGML v1.0//EN
CALSCALE:GREGORIAN
METHOD:PUBLISH
X-ORIGINAL-URL:https://agentbrokerhub.remax.ca
X-WR-CALDESC:Events for REMAX Canada Agent Broker Hub
REFRESH-INTERVAL;VALUE=DURATION:PT1H
X-Robots-Tag:noindex
X-PUBLISHED-TTL:PT1H
BEGIN:VTIMEZONE
TZID:America/Toronto
BEGIN:DAYLIGHT
TZOFFSETFROM:-0500
TZOFFSETTO:-0400
TZNAME:EDT
DTSTART:20220313T070000
END:DAYLIGHT
BEGIN:STANDARD
TZOFFSETFROM:-0400
TZOFFSETTO:-0500
TZNAME:EST
DTSTART:20221106T060000
END:STANDARD
BEGIN:DAYLIGHT
TZOFFSETFROM:-0500
TZOFFSETTO:-0400
TZNAME:EDT
DTSTART:20230312T070000
END:DAYLIGHT
BEGIN:STANDARD
TZOFFSETFROM:-0400
TZOFFSETTO:-0500
TZNAME:EST
DTSTART:20231105T060000
END:STANDARD
BEGIN:DAYLIGHT
TZOFFSETFROM:-0500
TZOFFSETTO:-0400
TZNAME:EDT
DTSTART:20240310T070000
END:DAYLIGHT
BEGIN:STANDARD
TZOFFSETFROM:-0400
TZOFFSETTO:-0500
TZNAME:EST
DTSTART:20241103T060000
END:STANDARD
END:VTIMEZONE
BEGIN:VEVENT
DTSTART;VALUE=DATE:20230906
DTEND;VALUE=DATE:20230907
DTSTAMP:20260421T092740
CREATED:20230828T115534Z
LAST-MODIFIED:20230828T115534Z
UID:10000271-1693958400-1694044799@agentbrokerhub.remax.ca
SUMMARY:Unlocking Agent Success: Actionable Steps to Leverage Complete Agent Development at Your Office
DESCRIPTION:As the primary support for your agents\, helping them navigating their real estate business through a changing marketing can be a challenge. That’s where the Complete Agent Development (CAD) Program steps in\, designed to help you support realtors at every stage of their career. Join us as we walk through a treasure trove of easy-to-follow videos\, practical workbooks\, and real-life exercises that can help supplement the training you are already offering at your brokerage. The CAD Program will not only help your agents draft a solid business plan\, but understand how to apply systems for lead generation\, lead conversion and so much more. In this webinar you will learn how to position these tools to support your agents’ success AND how to use RE/MAX University reporting and the Business Analytics within MAX/Tech powered by kvCORE to aide you in holding your agents accountable for their own success! See how simple it can be for you to integrate the CAD principles and tools into the value you’re already delivering to your agents!
URL:https://agentbrokerhub.remax.ca/event/unlocking-agent-success-actionable-steps-to-leverage-complete-agent-development-at-your-office/
CATEGORIES:Broker/Owner
ATTACH;FMTTYPE=image/png:https://res.cloudinary.com/remax-prod/images/f_auto,q_auto/v1757556712/abh-canada-prod/Blog-Headers-29-2/Blog-Headers-29-2.png?_i=AA
END:VEVENT
BEGIN:VEVENT
DTSTART;VALUE=DATE:20230912
DTEND;VALUE=DATE:20230913
DTSTAMP:20260421T092740
CREATED:20230822T162216Z
LAST-MODIFIED:20230822T162911Z
UID:10000264-1694476800-1694563199@agentbrokerhub.remax.ca
SUMMARY:Live In-Person Training on MAX/Tech powered by kvCORE from the RE/MAX Tech Solutions Team
DESCRIPTION:Join the RE/MAX Technology Solutions team in Coquitlman\, BC for a live in-person training covering all things MAX/Tech powered by kvCORE. \nWe’re taking you on a journey through the agent operational model–focusing first on helping you prospect and generate new leads using MAX/Tech powered by kvCORE. But a lead is only good if can be turned into sales\, so we’ll also explore how to leverage your new tools to cultivate relationships and convert those leads into clients\, and how to stay top of mind throughout the process and beyond. \n \nWhat You Can Expect to Learn: \n\n\n\n\n\n\n\nHow to utilize your website\, squeeze pages\, and landing pages as powerful lead engine tools\nBest practices for managing your contacts in your CRM that will allow the system to work for you\, including how to build an intentional hashtag strategy\nCommunication strategies using the power of behavioral automations and Smart Campaigns to stay in flow and top of mind\nEffective ways to leverage interactive\, date-driven CMAs to help you win more deals and have informed pricing discussions\nAnd more!\n\n\n\n\n\n\n\n\n\n\n\n\n\nWhat You Need to Know: \n\n\n\n\n\n\n\n\n\n\n\n\n\nClasses will be set up as interactive workshops\, so make sure you bring your laptop with you so you can follow alongside the presenter.\nEach workshop is 3 hours long and will be offered in the morning and afternoon. The same content is repeated in both\, so please pick one workshop to join at the time that works best in your busy schedule!\nCome prepared to take notes and ask questions along the way to get the most out of your training.\nAs always\, space is limited! There is a $40 +GST non-refundable fee to attend with no waitlisting. Register today to secure your spot!
URL:https://agentbrokerhub.remax.ca/event/live-in-person-training-on-max-tech-powered-by-kvcore-from-the-re-max-tech-solutions-team/
CATEGORIES:Training
ATTACH;FMTTYPE=image/png:https://res.cloudinary.com/remax-prod/images/f_auto,q_auto/v1757528895/abh-canada-prod/Blog-Headers-27-6_3805011530/Blog-Headers-27-6_3805011530.png?_i=AA
END:VEVENT
BEGIN:VEVENT
DTSTART;VALUE=DATE:20230913
DTEND;VALUE=DATE:20230914
DTSTAMP:20260421T092740
CREATED:20230822T205436Z
LAST-MODIFIED:20230822T205436Z
UID:10000266-1694563200-1694649599@agentbrokerhub.remax.ca
SUMMARY:Live In-Person Training on MAX/Tech powered by kvCORE from the RE/MAX Tech Solutions Team
DESCRIPTION:Join the RE/MAX Technology Solutions team in Mississauga\, ON for a live in-person training covering all things MAX/Tech powered by kvCORE. \nWe’re taking you on a journey through the agent operational model–focusing first on helping you prospect and generate new leads using MAX/Tech powered by kvCORE. But a lead is only good if can be turned into sales\, so we’ll also explore how to leverage your new tools to cultivate relationships and convert those leads into clients\, and how to stay top of mind throughout the process and beyond. \n \nWhat You Can Expect to Learn: \n\n\n\n\n\n\n\nHow to utilize your website\, squeeze pages\, and landing pages as powerful lead engine tools\nBest practices for managing your contacts in your CRM that will allow the system to work for you\, including how to build an intentional hashtag strategy\nCommunication strategies using the power of behavioral automations and Smart Campaigns to stay in flow and top of mind\nEffective ways to leverage interactive\, date-driven CMAs to help you win more deals and have informed pricing discussions\nAnd more!\n\n\n\n\n\n\n\n\n\n\n\n\n\nWhat You Need to Know: \n\n\n\n\n\n\n\n\n\n\n\n\n\nClasses will be set up as interactive workshops\, so make sure you bring your laptop with you so you can follow alongside the presenter.\nEach workshop is 3 hours long and will be offered in the morning and afternoon. The same content is repeated in both\, so please pick one workshop to join at the time that works best in your busy schedule!\nCome prepared to take notes and ask questions along the way to get the most out of your training.\nAs always\, space is limited! There is a $40 +GST non-refundable fee to attend with no waitlisting. Register today to secure your spot!
URL:https://agentbrokerhub.remax.ca/event/live-in-person-training-on-max-tech-powered-by-kvcore-from-the-re-max-tech-solutions-team-2/
CATEGORIES:Training
ATTACH;FMTTYPE=image/png:https://res.cloudinary.com/remax-prod/images/f_auto,q_auto/v1757528895/abh-canada-prod/Blog-Headers-27-6_3805011530/Blog-Headers-27-6_3805011530.png?_i=AA
END:VEVENT
BEGIN:VEVENT
DTSTART;VALUE=DATE:20230914
DTEND;VALUE=DATE:20230915
DTSTAMP:20260421T092740
CREATED:20230207T215651Z
LAST-MODIFIED:20230905T132217Z
UID:10000201-1694649600-1694735999@agentbrokerhub.remax.ca
SUMMARY:Virtual Broker Roundtable Meeting
DESCRIPTION:The real estate sector is the most frequently examined and highest penalized sector under FINTRAC\, where fines can reach up to $500\,000 for a single violation. In this meeting\, Adam Feldman from The AML Shop will join us and share ways your brokerage can reduce risk and avoid high penalties when you are audited\, as well as help answer any questions you may have. The regional team will also use this time to share updates on RE/MAX.
URL:https://agentbrokerhub.remax.ca/event/virtual-broker-roundtable-meeting-2/
CATEGORIES:Broker/Owner
ATTACH;FMTTYPE=image/png:https://res.cloudinary.com/remax-prod/images/f_auto,q_auto/v1757518230/abh-canada-prod/Blog-Headers-29-1/Blog-Headers-29-1.png?_i=AA
END:VEVENT
BEGIN:VEVENT
DTSTART;VALUE=DATE:20230919
DTEND;VALUE=DATE:20230920
DTSTAMP:20260421T092740
CREATED:20230828T114341Z
LAST-MODIFIED:20230828T114341Z
UID:10000268-1695081600-1695167999@agentbrokerhub.remax.ca
SUMMARY:Building a Resonant Real Estate Brand: Attracting New Clients with Strategic Branding
DESCRIPTION:In the competitive world of real estate\, your brand is more than just a logo or a tagline – it’s the essence of what sets you apart and draws in potential clientele. Join us for an insightful webinar where we’ll explore the art and science of crafting a compelling real estate brand that resonates with your target audience and drives new engagement. Whether you’re an experienced real estate agent looking to revamp your brand or a newcomer eager to establish a distinctive presence\, this webinar will provide actionable insights to help you stand out\, connect\, and thrive in today’s dynamic real estate landscape. Join us to uncover the secrets of building a real estate brand that not only resonates but captivates.
URL:https://agentbrokerhub.remax.ca/event/building-a-resonant-real-estate-brand-attracting-new-clients-with-strategic-branding/
CATEGORIES:Training
ATTACH;FMTTYPE=image/png:https://res.cloudinary.com/remax-prod/images/f_auto,q_auto/v1757518238/abh-canada-prod/201_382617f5f8/201_382617f5f8.png?_i=AA
END:VEVENT
BEGIN:VEVENT
DTSTART;VALUE=DATE:20230920
DTEND;VALUE=DATE:20230921
DTSTAMP:20260421T092740
CREATED:20230913T114733Z
LAST-MODIFIED:20230913T114818Z
UID:10000273-1695168000-1695254399@agentbrokerhub.remax.ca
SUMMARY:Broker/Owner Growth Series: Mergers & Acquisitions
DESCRIPTION:Have growth goals? Prepare to meet them. \nBe motivated to reach your goals for growth. Get expert mergers and acquisition tips to help you reach them faster. Register now and tune in to watch RE/MAX broker/owner Robert Lacerte share invaluable information with Christopher Alexander\, President of RE/MAX Canada. \n  \n 
URL:https://agentbrokerhub.remax.ca/event/broker-owner-growth-series-mergers-acquisitions-2/
CATEGORIES:Broker/Owner
ATTACH;FMTTYPE=image/png:https://res.cloudinary.com/remax-prod/images/f_auto,q_auto/v1757526875/abh-canada-prod/Blog-Headers-30-1/Blog-Headers-30-1.png?_i=AA
END:VEVENT
BEGIN:VEVENT
DTSTART;VALUE=DATE:20230920
DTEND;VALUE=DATE:20230921
DTSTAMP:20260421T092740
CREATED:20230828T114538Z
LAST-MODIFIED:20230828T114538Z
UID:10000269-1695168000-1695254399@agentbrokerhub.remax.ca
SUMMARY:Creating a Conversion Plan for New Buyer Leads with MAX/Tech Powered by kvCORE
DESCRIPTION:Join us as we embark on the journey of a buyer from new lead to closing. Follow their process as you lean on automation to communicate and discover their motivation\, qualification\, and loyalty. Create an advocate by combining the different tools in your MAX/Tech powered by kvCORE platform to create a concise conversion plan. Discover though practical examples how you can showcase your value as a real estate resource and where automation meets strategy\, give you the conversion advantage and fill your pipeline.
URL:https://agentbrokerhub.remax.ca/event/creating-a-conversion-plan-for-new-buyer-leads-with-max-tech-powered-by-kvcore/
CATEGORIES:Training
ATTACH;FMTTYPE=image/png:https://res.cloudinary.com/remax-prod/images/f_auto,q_auto/v1757531650/abh-canada-prod/202/202.png?_i=AA
END:VEVENT
BEGIN:VEVENT
DTSTART;VALUE=DATE:20230927
DTEND;VALUE=DATE:20230928
DTSTAMP:20260421T092740
CREATED:20230828T114734Z
LAST-MODIFIED:20230828T114734Z
UID:10000270-1695772800-1695859199@agentbrokerhub.remax.ca
SUMMARY:Creating a Plan to Win The Listing for New Seller Leads with MAX/Tech Powered by kvCORE
DESCRIPTION:Learn how to unleash the power of your MAX/Tech powered by kvCORE ecosystem to convert new seller leads into loyal advocates. Join us as we dive into the platform and guide you through the processes and strategies you can use when receiving a new seller lead\, integrate them properly in your CRM\, create compelling market reports\, generate comparative market analysis (CMA) reports\, and more! We will show you how to take advantage of the tools MAX/Tech powered by kvCORE platform offers to showcase your value as a real estate market expert and win their listing!
URL:https://agentbrokerhub.remax.ca/event/creating-a-plan-to-win-the-listing-for-new-seller-leads-with-max-tech-powered-by-kvcore/
CATEGORIES:Training
ATTACH;FMTTYPE=image/png:https://res.cloudinary.com/remax-prod/images/f_auto,q_auto/v1757536972/abh-canada-prod/203/203.png?_i=AA
END:VEVENT
BEGIN:VEVENT
DTSTART;VALUE=DATE:20230928
DTEND;VALUE=DATE:20230929
DTSTAMP:20260421T092740
CREATED:20230919T021105Z
LAST-MODIFIED:20230919T022345Z
UID:10000283-1695859200-1695945599@agentbrokerhub.remax.ca
SUMMARY:RE/MAX REAL TEAMS Track | Delegate Like a Pro
DESCRIPTION:Thursday\, September 28\, 2023 | 1:00 PM ET \nRE/MAX REAL TEAMS Track – Webinar Series \nPowered by Workman Success Systems \nWelcome to our 12-part webinar series designed to help you unlock the full potential of your business. Each webinar will be led by our expert speakers\, who will provide insights\, tips\, and strategies to help you optimize your team’s performance\, boost your revenue\, and grow your business. \nSession #5 is all about Delegation. We’re calling it “Delegate Like a Pro: Mastering the Art of Real Estate Delegation” \nHere’s a breakdown of the topics that will be covered in this series: \n\nUntapped Power of Teams\n\n\nFrom Zero to 7-Figure\n\n\nHiring Hacks\n\n\nLead Development\n\n\nDelegate Like a Pro\n\n\nTerrific Time Management\n\n\nLeadership Advantage\n\n\nCompensation That Rocks\n\n\nCulture is King\n\n\nBusiness Development\n\n\nLead Gen Mastery\n\n\nEvents That Wow
URL:https://agentbrokerhub.remax.ca/event/re-max-real-teams-track-delegate-like-a-pro/
CATEGORIES:Training
ATTACH;FMTTYPE=image/png:https://res.cloudinary.com/remax-prod/images/f_auto,q_auto/v1757536968/abh-canada-prod/178/178.png?_i=AA
END:VEVENT
END:VCALENDAR