BEGIN:VCALENDAR
VERSION:2.0
PRODID:-//REMAX Canada Agent Broker Hub - ECPv6.15.17.1//NONSGML v1.0//EN
CALSCALE:GREGORIAN
METHOD:PUBLISH
X-WR-CALNAME:REMAX Canada Agent Broker Hub
X-ORIGINAL-URL:https://agentbrokerhub.remax.ca
X-WR-CALDESC:Events for REMAX Canada Agent Broker Hub
REFRESH-INTERVAL;VALUE=DURATION:PT1H
X-Robots-Tag:noindex
X-PUBLISHED-TTL:PT1H
BEGIN:VTIMEZONE
TZID:UTC
BEGIN:STANDARD
TZOFFSETFROM:+0000
TZOFFSETTO:+0000
TZNAME:UTC
DTSTART:20220101T000000
END:STANDARD
END:VTIMEZONE
BEGIN:VTIMEZONE
TZID:America/Toronto
BEGIN:DAYLIGHT
TZOFFSETFROM:-0500
TZOFFSETTO:-0400
TZNAME:EDT
DTSTART:20220313T070000
END:DAYLIGHT
BEGIN:STANDARD
TZOFFSETFROM:-0400
TZOFFSETTO:-0500
TZNAME:EST
DTSTART:20221106T060000
END:STANDARD
BEGIN:DAYLIGHT
TZOFFSETFROM:-0500
TZOFFSETTO:-0400
TZNAME:EDT
DTSTART:20230312T070000
END:DAYLIGHT
BEGIN:STANDARD
TZOFFSETFROM:-0400
TZOFFSETTO:-0500
TZNAME:EST
DTSTART:20231105T060000
END:STANDARD
BEGIN:DAYLIGHT
TZOFFSETFROM:-0500
TZOFFSETTO:-0400
TZNAME:EDT
DTSTART:20240310T070000
END:DAYLIGHT
BEGIN:STANDARD
TZOFFSETFROM:-0400
TZOFFSETTO:-0500
TZNAME:EST
DTSTART:20241103T060000
END:STANDARD
END:VTIMEZONE
BEGIN:VEVENT
DTSTART;VALUE=DATE:20230709
DTEND;VALUE=DATE:20230712
DTSTAMP:20260423T081446
CREATED:20220425T215044Z
LAST-MODIFIED:20230508T212831Z
UID:10000051-1688860800-1689119999@agentbrokerhub.remax.ca
SUMMARY:2023 RE/MAX Torchbearer Event
DESCRIPTION:July 9-11 | Nashville\, TN | JW Marriott Nashville \nDid you make this year’s Torchbearers list? \nCome join us in the hometown of country music and the birthplace of bluegrass\, with roots in R&B and a thriving pop and rock scene. \nTorchbearers will network with other top producers\, attend business sessions\, hear from awesome speakers\, inspire each other – and have plenty of fun! \nDon’t miss out on this exclusive opportunity to connect\, share nd ignite your passion for your business with those who shine brightly\, like you.
URL:https://agentbrokerhub.remax.ca/event/torchbearers/
CATEGORIES:Networking
ATTACH;FMTTYPE=image/png:https://res.cloudinary.com/remax-prod/images/f_auto,q_auto/v1757525373/abh-canada-prod/Blog-Headers-22_36304c8dc6/Blog-Headers-22_36304c8dc6.png?_i=AA
END:VEVENT
BEGIN:VEVENT
DTSTART;VALUE=DATE:20230711
DTEND;VALUE=DATE:20230712
DTSTAMP:20260423T081446
CREATED:20230620T031257Z
LAST-MODIFIED:20230620T031257Z
UID:10000245-1689033600-1689119999@agentbrokerhub.remax.ca
SUMMARY:Achieving Success Through Activity Tracking and Accountability
DESCRIPTION:You can’t control the market\, but you can control your activities. Utilize your own tracking within the activities that support the agent operational model to ensure you are on the right path to hitting your goals no matter how the market fluctuates. We will dive into what activities within your business you should be tracking for lead generation and conversion\, and discuss what to do if you are not on track to meet your goals. From there\, we’ll share how to adjust your approach to ensure you have the year you are striving towards!
URL:https://agentbrokerhub.remax.ca/event/achieving-success-through-activity-tracking-and-accountability/
CATEGORIES:Training
ATTACH;FMTTYPE=image/png:https://res.cloudinary.com/remax-prod/images/f_auto,q_auto/v1757530158/abh-canada-prod/199_3704277e93/199_3704277e93.png?_i=AA
END:VEVENT
BEGIN:VEVENT
DTSTART;VALUE=DATE:20230712
DTEND;VALUE=DATE:20230713
DTSTAMP:20260423T081446
CREATED:20230620T031448Z
LAST-MODIFIED:20230620T031448Z
UID:10000246-1689120000-1689206399@agentbrokerhub.remax.ca
SUMMARY:Mastering Business Analytics for ROI and Lead Generation with MAX/Tech powered by kvCORE
DESCRIPTION:Join us as we dive into the business analytics available within MAX/Tech powered by kvCORE and discuss how to interpret the report and make informed decisions on ROI and lead generation activities. We will then explore the technology that will populate this report and give you best practices on fully leveraging these tools to generate leads that drive your business.
URL:https://agentbrokerhub.remax.ca/event/mastering-business-analytics-for-roi-and-lead-generation-with-max-tech-powered-by-kvcore/
ATTACH;FMTTYPE=image/png:https://res.cloudinary.com/remax-prod/images/f_auto,q_auto/v1757547173/abh-canada-prod/200/200.png?_i=AA
END:VEVENT
END:VCALENDAR