BEGIN:VCALENDAR
VERSION:2.0
PRODID:-//REMAX Canada Agent Broker Hub - ECPv6.15.17.1//NONSGML v1.0//EN
CALSCALE:GREGORIAN
METHOD:PUBLISH
X-WR-CALNAME:REMAX Canada Agent Broker Hub
X-ORIGINAL-URL:https://agentbrokerhub.remax.ca
X-WR-CALDESC:Events for REMAX Canada Agent Broker Hub
REFRESH-INTERVAL;VALUE=DURATION:PT1H
X-Robots-Tag:noindex
X-PUBLISHED-TTL:PT1H
BEGIN:VTIMEZONE
TZID:America/Toronto
BEGIN:DAYLIGHT
TZOFFSETFROM:-0500
TZOFFSETTO:-0400
TZNAME:EDT
DTSTART:20220313T070000
END:DAYLIGHT
BEGIN:STANDARD
TZOFFSETFROM:-0400
TZOFFSETTO:-0500
TZNAME:EST
DTSTART:20221106T060000
END:STANDARD
BEGIN:DAYLIGHT
TZOFFSETFROM:-0500
TZOFFSETTO:-0400
TZNAME:EDT
DTSTART:20230312T070000
END:DAYLIGHT
BEGIN:STANDARD
TZOFFSETFROM:-0400
TZOFFSETTO:-0500
TZNAME:EST
DTSTART:20231105T060000
END:STANDARD
BEGIN:DAYLIGHT
TZOFFSETFROM:-0500
TZOFFSETTO:-0400
TZNAME:EDT
DTSTART:20240310T070000
END:DAYLIGHT
BEGIN:STANDARD
TZOFFSETFROM:-0400
TZOFFSETTO:-0500
TZNAME:EST
DTSTART:20241103T060000
END:STANDARD
END:VTIMEZONE
BEGIN:VEVENT
DTSTART;VALUE=DATE:20230302
DTEND;VALUE=DATE:20230303
DTSTAMP:20260425T080256
CREATED:20230104T030035Z
LAST-MODIFIED:20230104T030846Z
UID:10000192-1677715200-1677801599@agentbrokerhub.remax.ca
SUMMARY:Drive Agent Results | For Brokers
DESCRIPTION:This webinar is designed for Brokers and Team Leaders (and their Admins!) to learn tactical and strategic approaches using kvCORE to drive agent results and increase adoption of the platform. We’ll cover how to implement a clear path for all types of agents to adopt kvCORE and some fundamentals on how to schedule a kvCORE Day for your office or team!
URL:https://agentbrokerhub.remax.ca/event/drive-agent-results-for-brokers-9/
CATEGORIES:Training,Broker/Owner
ATTACH;FMTTYPE=image/png:https://res.cloudinary.com/remax-prod/images/f_auto,q_auto/v1757518855/abh-canada-prod/Blog-Headers-14-11_61128df5a/Blog-Headers-14-11_61128df5a.png?_i=AA
END:VEVENT
BEGIN:VEVENT
DTSTART;VALUE=DATE:20230306
DTEND;VALUE=DATE:20230307
DTSTAMP:20260425T080256
CREATED:20230104T004249Z
LAST-MODIFIED:20230104T004249Z
UID:10000154-1678060800-1678147199@agentbrokerhub.remax.ca
SUMMARY:Build Your Pipeline
DESCRIPTION:Please join us on this webinar where we’ll show you how you can build out your pipeline with 3 easy ways to add contacts right into kvCORE! \nYou’ll also get tips from an expert on how to prepare your database lists for importing including some best practices to use to re-engage with them once they’ve been added.
URL:https://agentbrokerhub.remax.ca/event/build-your-pipeline-9/
CATEGORIES:Training
ATTACH;FMTTYPE=image/png:https://res.cloudinary.com/remax-prod/images/f_auto,q_auto/v1757542386/abh-canada-prod/Blog-Headers-14-4/Blog-Headers-14-4.png?_i=AA
END:VEVENT
BEGIN:VEVENT
DTSTART;VALUE=DATE:20230306
DTEND;VALUE=DATE:20230307
DTSTAMP:20260425T080256
CREATED:20230104T005704Z
LAST-MODIFIED:20230104T005704Z
UID:10000166-1678060800-1678147199@agentbrokerhub.remax.ca
SUMMARY:Generate New Leads | Free vs. Paid Options
DESCRIPTION:Please join us as we show you how to generate fresh new leads and funnel them right into your kvCORE platform! \nYou’ll learn about both FREE and PAID ways to generate leads.
URL:https://agentbrokerhub.remax.ca/event/generate-new-leads-free-vs-paid-options-3/
CATEGORIES:Training
ATTACH;FMTTYPE=image/png:https://res.cloudinary.com/remax-prod/images/f_auto,q_auto/v1757552533/abh-canada-prod/Blog-Headers-14-5/Blog-Headers-14-5.png?_i=AA
END:VEVENT
BEGIN:VEVENT
DTSTART;VALUE=DATE:20230306
DTEND;VALUE=DATE:20230307
DTSTAMP:20260425T080256
CREATED:20230104T024945Z
LAST-MODIFIED:20230104T025623Z
UID:10000180-1678060800-1678147199@agentbrokerhub.remax.ca
SUMMARY:Lead Routing & Ponds | For Brokers
DESCRIPTION:Learn how to route your leads right into kvCORE no matter what the source or lead type.\nYou’ll also be introduced to Ponds and learn how you can leverage them as a powerful recruiting tool and lead routing strategy. \n*This session is designed specifically for Company\, Office and Team Admins only.
URL:https://agentbrokerhub.remax.ca/event/lead-routing-ponds-for-brokers-9/
CATEGORIES:Training,Broker/Owner
ATTACH;FMTTYPE=image/png:https://res.cloudinary.com/remax-prod/images/f_auto,q_auto/v1757551018/abh-canada-prod/Blog-Headers-14-10/Blog-Headers-14-10.png?_i=AA
END:VEVENT
BEGIN:VEVENT
DTSTART;VALUE=DATE:20230307
DTEND;VALUE=DATE:20230308
DTSTAMP:20260425T080256
CREATED:20221209T161537Z
LAST-MODIFIED:20230104T000919Z
UID:10000115-1678147200-1678233599@agentbrokerhub.remax.ca
SUMMARY:Ask Me Anything Webinar | MAX/Tech powered by kvCORE
DESCRIPTION:Have a training question about kvCORE? Pop into this open “office hour” session to talk with a product trainer from Inside Real Estate about any tool in kvCORE! \nThis session is dedicated to answering product training questions about the different tools and functionality of kvCORE. Questions like\, “How do I create a landing page that will help me advertise my upcoming Open House?” or “Can you show me where I can add a custom page to my personal website?”\, “Can you show me how to add contacts into kvCORE?” \nThis session is for both Admins and Agent users. All questions are welcome and we’ll do our best to answer all of them! If we have additional resources or webinars\, we’ll help you access those too! Register today!
URL:https://agentbrokerhub.remax.ca/event/ask-me-anything-webinar-max-tech-powered-by-kvcore-13/
CATEGORIES:Training
ATTACH;FMTTYPE=image/png:https://res.cloudinary.com/remax-prod/images/f_auto,q_auto/v1757534355/abh-canada-prod/Blog-Headers-14-1/Blog-Headers-14-1.png?_i=AA
END:VEVENT
BEGIN:VEVENT
DTSTART;VALUE=DATE:20230307
DTEND;VALUE=DATE:20230308
DTSTAMP:20260425T080256
CREATED:20230104T001815Z
LAST-MODIFIED:20230104T001815Z
UID:10000131-1678147200-1678233599@agentbrokerhub.remax.ca
SUMMARY:Power Up Your Automation
DESCRIPTION:Please join us on this webinar where we’ll review and show you how to power up automations in kvCORE to help nurture and convert your leads and contacts 24/7!
URL:https://agentbrokerhub.remax.ca/event/power-up-your-automation-8/
CATEGORIES:Training
ATTACH;FMTTYPE=image/png:https://res.cloudinary.com/remax-prod/images/f_auto,q_auto/v1757620657/abh-canada-prod/Blog-Headers-14-1_5932ca633/Blog-Headers-14-1_5932ca633.png?_i=AA
END:VEVENT
BEGIN:VEVENT
DTSTART;VALUE=DATE:20230307
DTEND;VALUE=DATE:20230308
DTSTAMP:20260425T080256
CREATED:20230104T002318Z
LAST-MODIFIED:20230104T002318Z
UID:10000141-1678147200-1678233599@agentbrokerhub.remax.ca
SUMMARY:How it Works Webinar for Agents | MAX/Tech powered by kvCORE
DESCRIPTION:In this webinar\, you’ll see how easy it is to get started on the new MAX/Tech powered by kvCORE platform and what to expect when you get access to this powerful platform.
URL:https://agentbrokerhub.remax.ca/event/how-it-works-webinar-for-agents-max-tech-powered-by-kvcore-12/
CATEGORIES:Training
ATTACH;FMTTYPE=image/png:https://res.cloudinary.com/remax-prod/images/f_auto,q_auto/v1757541065/abh-canada-prod/Blog-Headers-14-3/Blog-Headers-14-3.png?_i=AA
END:VEVENT
BEGIN:VEVENT
DTSTART;VALUE=DATE:20230308
DTEND;VALUE=DATE:20230309
DTSTAMP:20260425T080256
CREATED:20230216T135609Z
LAST-MODIFIED:20230216T135609Z
UID:10000208-1678233600-1678319999@agentbrokerhub.remax.ca
SUMMARY:Building Your Team with MAX/Tech Powered by kvCORE
DESCRIPTION:Your team is dynamic. Your technology should be\, too. MAX/Tech Powered by kvCORE offers technology solutions designed to help your team thrive and run more efficiently as an independent business. Join this session for an introduction to the features specifically tailored to your unique needs\, including the ability to customize your team website\, set your own team lead routing rules\, collaborate on shared deals\, measure team performance\, and more.
URL:https://agentbrokerhub.remax.ca/event/building-your-team-with-max-tech-powered-by-kvcore/
CATEGORIES:Training
ATTACH;FMTTYPE=image/png:https://res.cloudinary.com/remax-prod/images/f_auto,q_auto/v1757542295/abh-canada-prod/61/61.png?_i=AA
END:VEVENT
BEGIN:VEVENT
DTSTART;VALUE=DATE:20230309
DTEND;VALUE=DATE:20230310
DTSTAMP:20260425T080256
CREATED:20230104T030056Z
LAST-MODIFIED:20230104T031142Z
UID:10000193-1678320000-1678406399@agentbrokerhub.remax.ca
SUMMARY:Drive Agent Results | For Brokers
DESCRIPTION:This webinar is designed for Brokers and Team Leaders (and their Admins!) to learn tactical and strategic approaches using kvCORE to drive agent results and increase adoption of the platform. We’ll cover how to implement a clear path for all types of agents to adopt kvCORE and some fundamentals on how to schedule a kvCORE Day for your office or team!
URL:https://agentbrokerhub.remax.ca/event/drive-agent-results-for-brokers-10/
CATEGORIES:Training,Broker/Owner
ATTACH;FMTTYPE=image/png:https://res.cloudinary.com/remax-prod/images/f_auto,q_auto/v1757518855/abh-canada-prod/Blog-Headers-14-11_61128df5a/Blog-Headers-14-11_61128df5a.png?_i=AA
END:VEVENT
BEGIN:VEVENT
DTSTART;VALUE=DATE:20230313
DTEND;VALUE=DATE:20230314
DTSTAMP:20260425T080256
CREATED:20230104T004318Z
LAST-MODIFIED:20230104T004406Z
UID:10000155-1678665600-1678751999@agentbrokerhub.remax.ca
SUMMARY:Build Your Pipeline
DESCRIPTION:Please join us on this webinar where we’ll show you how you can build out your pipeline with 3 easy ways to add contacts right into kvCORE! \nYou’ll also get tips from an expert on how to prepare your database lists for importing including some best practices to use to re-engage with them once they’ve been added.
URL:https://agentbrokerhub.remax.ca/event/build-your-pipeline-10/
CATEGORIES:Training
ATTACH;FMTTYPE=image/png:https://res.cloudinary.com/remax-prod/images/f_auto,q_auto/v1757542386/abh-canada-prod/Blog-Headers-14-4/Blog-Headers-14-4.png?_i=AA
END:VEVENT
BEGIN:VEVENT
DTSTART;VALUE=DATE:20230313
DTEND;VALUE=DATE:20230314
DTSTAMP:20260425T080256
CREATED:20230104T005728Z
LAST-MODIFIED:20230104T005728Z
UID:10000167-1678665600-1678751999@agentbrokerhub.remax.ca
SUMMARY:Generate New Leads | Free vs. Paid Options
DESCRIPTION:Please join us as we show you how to generate fresh new leads and funnel them right into your kvCORE platform! \nYou’ll learn about both FREE and PAID ways to generate leads.
URL:https://agentbrokerhub.remax.ca/event/generate-new-leads-free-vs-paid-options-4/
CATEGORIES:Training
ATTACH;FMTTYPE=image/png:https://res.cloudinary.com/remax-prod/images/f_auto,q_auto/v1757552533/abh-canada-prod/Blog-Headers-14-5/Blog-Headers-14-5.png?_i=AA
END:VEVENT
BEGIN:VEVENT
DTSTART;VALUE=DATE:20230313
DTEND;VALUE=DATE:20230314
DTSTAMP:20260425T080256
CREATED:20230104T025009Z
LAST-MODIFIED:20230104T025638Z
UID:10000181-1678665600-1678751999@agentbrokerhub.remax.ca
SUMMARY:Lead Routing & Ponds | For Brokers
DESCRIPTION:Learn how to route your leads right into kvCORE no matter what the source or lead type.\nYou’ll also be introduced to Ponds and learn how you can leverage them as a powerful recruiting tool and lead routing strategy. \n*This session is designed specifically for Company\, Office and Team Admins only.
URL:https://agentbrokerhub.remax.ca/event/lead-routing-ponds-for-brokers-10/
CATEGORIES:Training,Broker/Owner
ATTACH;FMTTYPE=image/png:https://res.cloudinary.com/remax-prod/images/f_auto,q_auto/v1757551018/abh-canada-prod/Blog-Headers-14-10/Blog-Headers-14-10.png?_i=AA
END:VEVENT
BEGIN:VEVENT
DTSTART;VALUE=DATE:20230314
DTEND;VALUE=DATE:20230315
DTSTAMP:20260425T080256
CREATED:20221209T161648Z
LAST-MODIFIED:20230104T000857Z
UID:10000116-1678752000-1678838399@agentbrokerhub.remax.ca
SUMMARY:Ask Me Anything Webinar | MAX/Tech powered by kvCORE
DESCRIPTION:Have a training question about kvCORE? Pop into this open “office hour” session to talk with a product trainer from Inside Real Estate about any tool in kvCORE! \nThis session is dedicated to answering product training questions about the different tools and functionality of kvCORE. Questions like\, “How do I create a landing page that will help me advertise my upcoming Open House?” or “Can you show me where I can add a custom page to my personal website?”\, “Can you show me how to add contacts into kvCORE?” \nThis session is for both Admins and Agent users. All questions are welcome and we’ll do our best to answer all of them! If we have additional resources or webinars\, we’ll help you access those too! Register today!
URL:https://agentbrokerhub.remax.ca/event/ask-me-anything-webinar-max-tech-powered-by-kvcore-14/
CATEGORIES:Training
ATTACH;FMTTYPE=image/png:https://res.cloudinary.com/remax-prod/images/f_auto,q_auto/v1757534355/abh-canada-prod/Blog-Headers-14-1/Blog-Headers-14-1.png?_i=AA
END:VEVENT
BEGIN:VEVENT
DTSTART;VALUE=DATE:20230314
DTEND;VALUE=DATE:20230315
DTSTAMP:20260425T080256
CREATED:20230104T001836Z
LAST-MODIFIED:20230104T001836Z
UID:10000132-1678752000-1678838399@agentbrokerhub.remax.ca
SUMMARY:Power Up Your Automation
DESCRIPTION:Please join us on this webinar where we’ll review and show you how to power up automations in kvCORE to help nurture and convert your leads and contacts 24/7!
URL:https://agentbrokerhub.remax.ca/event/power-up-your-automation-9/
CATEGORIES:Training
ATTACH;FMTTYPE=image/png:https://res.cloudinary.com/remax-prod/images/f_auto,q_auto/v1757620657/abh-canada-prod/Blog-Headers-14-1_5932ca633/Blog-Headers-14-1_5932ca633.png?_i=AA
END:VEVENT
BEGIN:VEVENT
DTSTART;VALUE=DATE:20230314
DTEND;VALUE=DATE:20230315
DTSTAMP:20260425T080256
CREATED:20230104T002339Z
LAST-MODIFIED:20230104T002339Z
UID:10000142-1678752000-1678838399@agentbrokerhub.remax.ca
SUMMARY:How it Works Webinar for Agents | MAX/Tech powered by kvCORE
DESCRIPTION:In this webinar\, you’ll see how easy it is to get started on the new MAX/Tech powered by kvCORE platform and what to expect when you get access to this powerful platform.
URL:https://agentbrokerhub.remax.ca/event/how-it-works-webinar-for-agents-max-tech-powered-by-kvcore-13/
CATEGORIES:Training
ATTACH;FMTTYPE=image/png:https://res.cloudinary.com/remax-prod/images/f_auto,q_auto/v1757541065/abh-canada-prod/Blog-Headers-14-3/Blog-Headers-14-3.png?_i=AA
END:VEVENT
BEGIN:VEVENT
DTSTART;VALUE=DATE:20230315
DTEND;VALUE=DATE:20230316
DTSTAMP:20260425T080256
CREATED:20230216T135829Z
LAST-MODIFIED:20230216T135829Z
UID:10000209-1678838400-1678924799@agentbrokerhub.remax.ca
SUMMARY:Stay Top of Mind & Convert Leads Systematically Using Smart Campaigns
DESCRIPTION:Join us for this webinar to learn how creating a system for converting new leads as soon as they enter your Smart CRM can be made simple with the help of Smart Campaigns! During this session\, we’ll explore ways to cultivate client relationships through multi-channel communication plans and how to ensure you are first person that comes to mind when your past clients\, friends and family think of real estate.
URL:https://agentbrokerhub.remax.ca/event/stay-top-of-mind-convert-leads-systematically-using-smart-campaigns/
CATEGORIES:Training
ATTACH;FMTTYPE=image/png:https://res.cloudinary.com/remax-prod/images/f_auto,q_auto/v1757518838/abh-canada-prod/62/62.png?_i=AA
END:VEVENT
BEGIN:VEVENT
DTSTART;VALUE=DATE:20230316
DTEND;VALUE=DATE:20230317
DTSTAMP:20260425T080256
CREATED:20230104T030115Z
LAST-MODIFIED:20230104T030919Z
UID:10000194-1678924800-1679011199@agentbrokerhub.remax.ca
SUMMARY:Drive Agent Results | For Brokers
DESCRIPTION:This webinar is designed for Brokers and Team Leaders (and their Admins!) to learn tactical and strategic approaches using kvCORE to drive agent results and increase adoption of the platform. We’ll cover how to implement a clear path for all types of agents to adopt kvCORE and some fundamentals on how to schedule a kvCORE Day for your office or team!
URL:https://agentbrokerhub.remax.ca/event/drive-agent-results-for-brokers-11/
CATEGORIES:Training,Broker/Owner
ATTACH;FMTTYPE=image/png:https://res.cloudinary.com/remax-prod/images/f_auto,q_auto/v1757518855/abh-canada-prod/Blog-Headers-14-11_61128df5a/Blog-Headers-14-11_61128df5a.png?_i=AA
END:VEVENT
BEGIN:VEVENT
DTSTART;VALUE=DATE:20230320
DTEND;VALUE=DATE:20230321
DTSTAMP:20260425T080256
CREATED:20230104T004427Z
LAST-MODIFIED:20230104T004427Z
UID:10000156-1679270400-1679356799@agentbrokerhub.remax.ca
SUMMARY:Build Your Pipeline
DESCRIPTION:Please join us on this webinar where we’ll show you how you can build out your pipeline with 3 easy ways to add contacts right into kvCORE! \nYou’ll also get tips from an expert on how to prepare your database lists for importing including some best practices to use to re-engage with them once they’ve been added.
URL:https://agentbrokerhub.remax.ca/event/build-your-pipeline-11/
CATEGORIES:Training
ATTACH;FMTTYPE=image/png:https://res.cloudinary.com/remax-prod/images/f_auto,q_auto/v1757542386/abh-canada-prod/Blog-Headers-14-4/Blog-Headers-14-4.png?_i=AA
END:VEVENT
BEGIN:VEVENT
DTSTART;VALUE=DATE:20230320
DTEND;VALUE=DATE:20230321
DTSTAMP:20260425T080256
CREATED:20230104T005750Z
LAST-MODIFIED:20230104T005750Z
UID:10000168-1679270400-1679356799@agentbrokerhub.remax.ca
SUMMARY:Generate New Leads | Free vs. Paid Options
DESCRIPTION:Please join us as we show you how to generate fresh new leads and funnel them right into your kvCORE platform! \nYou’ll learn about both FREE and PAID ways to generate leads.
URL:https://agentbrokerhub.remax.ca/event/generate-new-leads-free-vs-paid-options-5/
CATEGORIES:Training
ATTACH;FMTTYPE=image/png:https://res.cloudinary.com/remax-prod/images/f_auto,q_auto/v1757552533/abh-canada-prod/Blog-Headers-14-5/Blog-Headers-14-5.png?_i=AA
END:VEVENT
BEGIN:VEVENT
DTSTART;VALUE=DATE:20230320
DTEND;VALUE=DATE:20230321
DTSTAMP:20260425T080256
CREATED:20230104T025029Z
LAST-MODIFIED:20230104T025658Z
UID:10000182-1679270400-1679356799@agentbrokerhub.remax.ca
SUMMARY:Lead Routing & Ponds | For Brokers
DESCRIPTION:Learn how to route your leads right into kvCORE no matter what the source or lead type.\nYou’ll also be introduced to Ponds and learn how you can leverage them as a powerful recruiting tool and lead routing strategy. \n*This session is designed specifically for Company\, Office and Team Admins only.
URL:https://agentbrokerhub.remax.ca/event/lead-routing-ponds-for-brokers-11/
CATEGORIES:Training,Broker/Owner
ATTACH;FMTTYPE=image/png:https://res.cloudinary.com/remax-prod/images/f_auto,q_auto/v1757551018/abh-canada-prod/Blog-Headers-14-10/Blog-Headers-14-10.png?_i=AA
END:VEVENT
BEGIN:VEVENT
DTSTART;VALUE=DATE:20230321
DTEND;VALUE=DATE:20230322
DTSTAMP:20260425T080256
CREATED:20221209T161814Z
LAST-MODIFIED:20230104T000825Z
UID:10000117-1679356800-1679443199@agentbrokerhub.remax.ca
SUMMARY:Ask Me Anything Webinar | MAX/Tech powered by kvCORE
DESCRIPTION:Have a training question about kvCORE? Pop into this open “office hour” session to talk with a product trainer from Inside Real Estate about any tool in kvCORE! \nThis session is dedicated to answering product training questions about the different tools and functionality of kvCORE. Questions like\, “How do I create a landing page that will help me advertise my upcoming Open House?” or “Can you show me where I can add a custom page to my personal website?”\, “Can you show me how to add contacts into kvCORE?” \nThis session is for both Admins and Agent users. All questions are welcome and we’ll do our best to answer all of them! If we have additional resources or webinars\, we’ll help you access those too! Register today!
URL:https://agentbrokerhub.remax.ca/event/ask-me-anything-webinar-max-tech-powered-by-kvcore-15/
CATEGORIES:Training
ATTACH;FMTTYPE=image/png:https://res.cloudinary.com/remax-prod/images/f_auto,q_auto/v1757534355/abh-canada-prod/Blog-Headers-14-1/Blog-Headers-14-1.png?_i=AA
END:VEVENT
BEGIN:VEVENT
DTSTART;VALUE=DATE:20230321
DTEND;VALUE=DATE:20230322
DTSTAMP:20260425T080256
CREATED:20230104T001859Z
LAST-MODIFIED:20230104T001859Z
UID:10000133-1679356800-1679443199@agentbrokerhub.remax.ca
SUMMARY:Power Up Your Automation
DESCRIPTION:Please join us on this webinar where we’ll review and show you how to power up automations in kvCORE to help nurture and convert your leads and contacts 24/7!
URL:https://agentbrokerhub.remax.ca/event/power-up-your-automation-10/
CATEGORIES:Training
ATTACH;FMTTYPE=image/png:https://res.cloudinary.com/remax-prod/images/f_auto,q_auto/v1757620657/abh-canada-prod/Blog-Headers-14-1_5932ca633/Blog-Headers-14-1_5932ca633.png?_i=AA
END:VEVENT
BEGIN:VEVENT
DTSTART;VALUE=DATE:20230321
DTEND;VALUE=DATE:20230322
DTSTAMP:20260425T080256
CREATED:20230104T002403Z
LAST-MODIFIED:20230104T002403Z
UID:10000143-1679356800-1679443199@agentbrokerhub.remax.ca
SUMMARY:How it Works Webinar for Agents | MAX/Tech powered by kvCORE
DESCRIPTION:In this webinar\, you’ll see how easy it is to get started on the new MAX/Tech powered by kvCORE platform and what to expect when you get access to this powerful platform.
URL:https://agentbrokerhub.remax.ca/event/how-it-works-webinar-for-agents-max-tech-powered-by-kvcore-14/
CATEGORIES:Training
ATTACH;FMTTYPE=image/png:https://res.cloudinary.com/remax-prod/images/f_auto,q_auto/v1757541065/abh-canada-prod/Blog-Headers-14-3/Blog-Headers-14-3.png?_i=AA
END:VEVENT
BEGIN:VEVENT
DTSTART;VALUE=DATE:20230322
DTEND;VALUE=DATE:20230323
DTSTAMP:20260425T080256
CREATED:20230216T140045Z
LAST-MODIFIED:20230216T140045Z
UID:10000210-1679443200-1679529599@agentbrokerhub.remax.ca
SUMMARY:Best Practices for Building a Lead Generating Agent Website
DESCRIPTION:Turn your MAX/Tech powered by kvCORE website into a powerful lead generation machine! From simple website updates and SEO area pages to landing pages and squeeze pages\, join us as we explore real world use cases and best practices for utilizing your website tools to gain more business. Finally\, discover how these new lead opportunities will funnel directly into your CRM where you can begin the lead conversion process in real time.
URL:https://agentbrokerhub.remax.ca/event/best-practices-for-building-a-lead-generating-agent-website/
CATEGORIES:Training
ATTACH;FMTTYPE=image/png:https://res.cloudinary.com/remax-prod/images/f_auto,q_auto/v1757530378/abh-canada-prod/63/63.png?_i=AA
END:VEVENT
BEGIN:VEVENT
DTSTART;VALUE=DATE:20230323
DTEND;VALUE=DATE:20230324
DTSTAMP:20260425T080256
CREATED:20230104T030139Z
LAST-MODIFIED:20230104T030938Z
UID:10000195-1679529600-1679615999@agentbrokerhub.remax.ca
SUMMARY:Drive Agent Results | For Brokers
DESCRIPTION:This webinar is designed for Brokers and Team Leaders (and their Admins!) to learn tactical and strategic approaches using kvCORE to drive agent results and increase adoption of the platform. We’ll cover how to implement a clear path for all types of agents to adopt kvCORE and some fundamentals on how to schedule a kvCORE Day for your office or team!
URL:https://agentbrokerhub.remax.ca/event/drive-agent-results-for-brokers-12/
CATEGORIES:Training,Broker/Owner
ATTACH;FMTTYPE=image/png:https://res.cloudinary.com/remax-prod/images/f_auto,q_auto/v1757518855/abh-canada-prod/Blog-Headers-14-11_61128df5a/Blog-Headers-14-11_61128df5a.png?_i=AA
END:VEVENT
BEGIN:VEVENT
DTSTART;VALUE=DATE:20230323
DTEND;VALUE=DATE:20230324
DTSTAMP:20260425T080256
CREATED:20230207T215343Z
LAST-MODIFIED:20230306T215107Z
UID:10000200-1679529600-1679615999@agentbrokerhub.remax.ca
SUMMARY:Virtual Broker Roundtable Meeting
DESCRIPTION:Join fellow RE/MAX Broker/Owners & Managers from coast to coast on March 23rd for an opportunity to connect with the RE/MAX Canada regional team and to hear important updates.
URL:https://agentbrokerhub.remax.ca/event/virtual-broker-roundtable-meeting/
CATEGORIES:Broker/Owner
ATTACH;FMTTYPE=image/png:https://res.cloudinary.com/remax-prod/images/f_auto,q_auto/v1757563189/abh-canada-prod/Broker-Roundtable-2023/Broker-Roundtable-2023.png?_i=AA
END:VEVENT
BEGIN:VEVENT
DTSTART;VALUE=DATE:20230327
DTEND;VALUE=DATE:20230328
DTSTAMP:20260425T080256
CREATED:20230104T004454Z
LAST-MODIFIED:20230104T004454Z
UID:10000157-1679875200-1679961599@agentbrokerhub.remax.ca
SUMMARY:Build Your Pipeline
DESCRIPTION:Please join us on this webinar where we’ll show you how you can build out your pipeline with 3 easy ways to add contacts right into kvCORE! \nYou’ll also get tips from an expert on how to prepare your database lists for importing including some best practices to use to re-engage with them once they’ve been added.
URL:https://agentbrokerhub.remax.ca/event/build-your-pipeline-12/
CATEGORIES:Training
ATTACH;FMTTYPE=image/png:https://res.cloudinary.com/remax-prod/images/f_auto,q_auto/v1757542386/abh-canada-prod/Blog-Headers-14-4/Blog-Headers-14-4.png?_i=AA
END:VEVENT
BEGIN:VEVENT
DTSTART;VALUE=DATE:20230327
DTEND;VALUE=DATE:20230328
DTSTAMP:20260425T080256
CREATED:20230104T005814Z
LAST-MODIFIED:20230104T005814Z
UID:10000169-1679875200-1679961599@agentbrokerhub.remax.ca
SUMMARY:Generate New Leads | Free vs. Paid Options
DESCRIPTION:Please join us as we show you how to generate fresh new leads and funnel them right into your kvCORE platform! \nYou’ll learn about both FREE and PAID ways to generate leads.
URL:https://agentbrokerhub.remax.ca/event/generate-new-leads-free-vs-paid-options-6/
CATEGORIES:Training
ATTACH;FMTTYPE=image/png:https://res.cloudinary.com/remax-prod/images/f_auto,q_auto/v1757552533/abh-canada-prod/Blog-Headers-14-5/Blog-Headers-14-5.png?_i=AA
END:VEVENT
BEGIN:VEVENT
DTSTART;VALUE=DATE:20230327
DTEND;VALUE=DATE:20230328
DTSTAMP:20260425T080256
CREATED:20230104T025047Z
LAST-MODIFIED:20230104T025713Z
UID:10000183-1679875200-1679961599@agentbrokerhub.remax.ca
SUMMARY:Lead Routing & Ponds | For Brokers
DESCRIPTION:Learn how to route your leads right into kvCORE no matter what the source or lead type.\nYou’ll also be introduced to Ponds and learn how you can leverage them as a powerful recruiting tool and lead routing strategy. \n*This session is designed specifically for Company\, Office and Team Admins only.
URL:https://agentbrokerhub.remax.ca/event/lead-routing-ponds-for-brokers-12/
CATEGORIES:Training,Broker/Owner
ATTACH;FMTTYPE=image/png:https://res.cloudinary.com/remax-prod/images/f_auto,q_auto/v1757551018/abh-canada-prod/Blog-Headers-14-10/Blog-Headers-14-10.png?_i=AA
END:VEVENT
BEGIN:VEVENT
DTSTART;VALUE=DATE:20230328
DTEND;VALUE=DATE:20230329
DTSTAMP:20260425T080256
CREATED:20221209T161856Z
LAST-MODIFIED:20230104T000801Z
UID:10000118-1679961600-1680047999@agentbrokerhub.remax.ca
SUMMARY:Ask Me Anything Webinar | MAX/Tech powered by kvCORE
DESCRIPTION:Have a training question about kvCORE? Pop into this open “office hour” session to talk with a product trainer from Inside Real Estate about any tool in kvCORE! \nThis session is dedicated to answering product training questions about the different tools and functionality of kvCORE. Questions like\, “How do I create a landing page that will help me advertise my upcoming Open House?” or “Can you show me where I can add a custom page to my personal website?”\, “Can you show me how to add contacts into kvCORE?” \nThis session is for both Admins and Agent users. All questions are welcome and we’ll do our best to answer all of them! If we have additional resources or webinars\, we’ll help you access those too! Register today!
URL:https://agentbrokerhub.remax.ca/event/ask-me-anything-webinar-max-tech-powered-by-kvcore-16/
CATEGORIES:Training
ATTACH;FMTTYPE=image/png:https://res.cloudinary.com/remax-prod/images/f_auto,q_auto/v1757534355/abh-canada-prod/Blog-Headers-14-1/Blog-Headers-14-1.png?_i=AA
END:VEVENT
END:VCALENDAR