BEGIN:VCALENDAR
VERSION:2.0
PRODID:-//REMAX Canada Agent Broker Hub - ECPv6.15.17.1//NONSGML v1.0//EN
CALSCALE:GREGORIAN
METHOD:PUBLISH
X-WR-CALNAME:REMAX Canada Agent Broker Hub
X-ORIGINAL-URL:https://agentbrokerhub.remax.ca
X-WR-CALDESC:Events for REMAX Canada Agent Broker Hub
REFRESH-INTERVAL;VALUE=DURATION:PT1H
X-Robots-Tag:noindex
X-PUBLISHED-TTL:PT1H
BEGIN:VTIMEZONE
TZID:America/Toronto
BEGIN:DAYLIGHT
TZOFFSETFROM:-0500
TZOFFSETTO:-0400
TZNAME:EDT
DTSTART:20220313T070000
END:DAYLIGHT
BEGIN:STANDARD
TZOFFSETFROM:-0400
TZOFFSETTO:-0500
TZNAME:EST
DTSTART:20221106T060000
END:STANDARD
BEGIN:DAYLIGHT
TZOFFSETFROM:-0500
TZOFFSETTO:-0400
TZNAME:EDT
DTSTART:20230312T070000
END:DAYLIGHT
BEGIN:STANDARD
TZOFFSETFROM:-0400
TZOFFSETTO:-0500
TZNAME:EST
DTSTART:20231105T060000
END:STANDARD
BEGIN:DAYLIGHT
TZOFFSETFROM:-0500
TZOFFSETTO:-0400
TZNAME:EDT
DTSTART:20240310T070000
END:DAYLIGHT
BEGIN:STANDARD
TZOFFSETFROM:-0400
TZOFFSETTO:-0500
TZNAME:EST
DTSTART:20241103T060000
END:STANDARD
END:VTIMEZONE
BEGIN:VEVENT
DTSTART;VALUE=DATE:20230202
DTEND;VALUE=DATE:20230203
DTSTAMP:20260425T095828
CREATED:20230104T025911Z
LAST-MODIFIED:20230104T030642Z
UID:10000188-1675296000-1675382399@agentbrokerhub.remax.ca
SUMMARY:Drive Agent Results | For Brokers
DESCRIPTION:This webinar is designed for Brokers and Team Leaders (and their Admins!) to learn tactical and strategic approaches using kvCORE to drive agent results and increase adoption of the platform. We’ll cover how to implement a clear path for all types of agents to adopt kvCORE and some fundamentals on how to schedule a kvCORE Day for your office or team!
URL:https://agentbrokerhub.remax.ca/event/drive-agent-results-for-brokers-5/
CATEGORIES:Training,Broker/Owner
ATTACH;FMTTYPE=image/png:https://res.cloudinary.com/remax-prod/images/f_auto,q_auto/v1757518855/abh-canada-prod/Blog-Headers-14-11_61128df5a/Blog-Headers-14-11_61128df5a.png?_i=AA
END:VEVENT
BEGIN:VEVENT
DTSTART;VALUE=DATE:20230206
DTEND;VALUE=DATE:20230207
DTSTAMP:20260425T095828
CREATED:20230104T004013Z
LAST-MODIFIED:20230104T004013Z
UID:10000150-1675641600-1675727999@agentbrokerhub.remax.ca
SUMMARY:Build Your Pipeline
DESCRIPTION:Please join us on this webinar where we’ll show you how you can build out your pipeline with 3 easy ways to add contacts right into kvCORE! \nYou’ll also get tips from an expert on how to prepare your database lists for importing including some best practices to use to re-engage with them once they’ve been added.
URL:https://agentbrokerhub.remax.ca/event/build-your-pipeline-5/
CATEGORIES:Training
ATTACH;FMTTYPE=image/png:https://res.cloudinary.com/remax-prod/images/f_auto,q_auto/v1757542386/abh-canada-prod/Blog-Headers-14-4/Blog-Headers-14-4.png?_i=AA
END:VEVENT
BEGIN:VEVENT
DTSTART;VALUE=DATE:20230206
DTEND;VALUE=DATE:20230207
DTSTAMP:20260425T095828
CREATED:20230104T005212Z
LAST-MODIFIED:20230104T005521Z
UID:10000162-1675641600-1675727999@agentbrokerhub.remax.ca
SUMMARY:Generate New Leads | Free vs. Paid Options
DESCRIPTION:Please join us as we show you how to generate fresh new leads and funnel them right into your kvCORE platform! \nYou’ll learn about both FREE and PAID ways to generate leads.
URL:https://agentbrokerhub.remax.ca/event/generate-new-leads-free-vs-paid-options-webinar-5/
CATEGORIES:Training
ATTACH;FMTTYPE=image/png:https://res.cloudinary.com/remax-prod/images/f_auto,q_auto/v1757552533/abh-canada-prod/Blog-Headers-14-5/Blog-Headers-14-5.png?_i=AA
END:VEVENT
BEGIN:VEVENT
DTSTART;VALUE=DATE:20230206
DTEND;VALUE=DATE:20230207
DTSTAMP:20260425T095828
CREATED:20230104T024815Z
LAST-MODIFIED:20230104T025509Z
UID:10000176-1675641600-1675727999@agentbrokerhub.remax.ca
SUMMARY:Lead Routing & Ponds | For Brokers
DESCRIPTION:Learn how to route your leads right into kvCORE no matter what the source or lead type.\nYou’ll also be introduced to Ponds and learn how you can leverage them as a powerful recruiting tool and lead routing strategy. \n*This session is designed specifically for Company\, Office and Team Admins only.
URL:https://agentbrokerhub.remax.ca/event/lead-routing-ponds-for-brokers-5/
CATEGORIES:Training,Broker/Owner
ATTACH;FMTTYPE=image/png:https://res.cloudinary.com/remax-prod/images/f_auto,q_auto/v1757551018/abh-canada-prod/Blog-Headers-14-10/Blog-Headers-14-10.png?_i=AA
END:VEVENT
BEGIN:VEVENT
DTSTART;VALUE=DATE:20230207
DTEND;VALUE=DATE:20230208
DTSTAMP:20260425T095828
CREATED:20221209T161220Z
LAST-MODIFIED:20230104T001119Z
UID:10000111-1675728000-1675814399@agentbrokerhub.remax.ca
SUMMARY:Ask Me Anything Webinar | MAX/Tech powered by kvCORE
DESCRIPTION:Have a training question about kvCORE? Pop into this open “office hour” session to talk with a product trainer from Inside Real Estate about any tool in kvCORE! \nThis session is dedicated to answering product training questions about the different tools and functionality of kvCORE. Questions like\, “How do I create a landing page that will help me advertise my upcoming Open House?” or “Can you show me where I can add a custom page to my personal website?”\, “Can you show me how to add contacts into kvCORE?” \nThis session is for both Admins and Agent users. All questions are welcome and we’ll do our best to answer all of them! If we have additional resources or webinars\, we’ll help you access those too! Register today!
URL:https://agentbrokerhub.remax.ca/event/ask-me-anything-webinar-max-tech-powered-by-kvcore-9/
CATEGORIES:Training
ATTACH;FMTTYPE=image/png:https://res.cloudinary.com/remax-prod/images/f_auto,q_auto/v1757534355/abh-canada-prod/Blog-Headers-14-1/Blog-Headers-14-1.png?_i=AA
END:VEVENT
BEGIN:VEVENT
DTSTART;VALUE=DATE:20230207
DTEND;VALUE=DATE:20230208
DTSTAMP:20260425T095828
CREATED:20230103T235613Z
LAST-MODIFIED:20230103T235613Z
UID:10000123-1675728000-1675814399@agentbrokerhub.remax.ca
SUMMARY:Power Up Your Automation
DESCRIPTION:Please join us on this webinar where we’ll review and show you how to power up automations in kvCORE to help nurture and convert your leads and contacts 24/7!
URL:https://agentbrokerhub.remax.ca/event/power-up-your-automation-5/
CATEGORIES:Training
ATTACH;FMTTYPE=image/png:https://res.cloudinary.com/remax-prod/images/f_auto,q_auto/v1757620657/abh-canada-prod/Blog-Headers-14-1_5932ca633/Blog-Headers-14-1_5932ca633.png?_i=AA
END:VEVENT
BEGIN:VEVENT
DTSTART;VALUE=DATE:20230207
DTEND;VALUE=DATE:20230208
DTSTAMP:20260425T095828
CREATED:20230104T002151Z
LAST-MODIFIED:20230104T002151Z
UID:10000137-1675728000-1675814399@agentbrokerhub.remax.ca
SUMMARY:How it Works Webinar for Agents | MAX/Tech powered by kvCORE
DESCRIPTION:In this webinar\, you’ll see how easy it is to get started on the new MAX/Tech powered by kvCORE platform and what to expect when you get access to this powerful platform.
URL:https://agentbrokerhub.remax.ca/event/how-it-works-webinar-for-agents-max-tech-powered-by-kvcore-8/
CATEGORIES:Training
ATTACH;FMTTYPE=image/png:https://res.cloudinary.com/remax-prod/images/f_auto,q_auto/v1757541065/abh-canada-prod/Blog-Headers-14-3/Blog-Headers-14-3.png?_i=AA
END:VEVENT
BEGIN:VEVENT
DTSTART;VALUE=DATE:20230208
DTEND;VALUE=DATE:20230209
DTSTAMP:20260425T095828
CREATED:20230118T152641Z
LAST-MODIFIED:20230118T153136Z
UID:10000198-1675814400-1675900799@agentbrokerhub.remax.ca
SUMMARY:MAXimizing your Marketing Plan with MAX/Tech Powered by kvCORE
DESCRIPTION:Amid a shifting market\, having a focused marketing strategy is key to your continued success. During this session\, learn how to incorporate MAX/Tech powered by kvCORE into your marketing mix and how your new tools work together to help develop and grow your personal brand\, promote your listings in innovative ways\, and build stronger relationships with your clients.
URL:https://agentbrokerhub.remax.ca/event/maximizing-your-marketing-plan-with-max-tech-powered-by-kvcore/
CATEGORIES:Training
ATTACH;FMTTYPE=image/png:https://res.cloudinary.com/remax-prod/images/f_auto,q_auto/v1757551784/abh-canada-prod/172_344294478d/172_344294478d.png?_i=AA
END:VEVENT
BEGIN:VEVENT
DTSTART;VALUE=DATE:20230209
DTEND;VALUE=DATE:20230210
DTSTAMP:20260425T095828
CREATED:20230104T025932Z
LAST-MODIFIED:20230104T030710Z
UID:10000189-1675900800-1675987199@agentbrokerhub.remax.ca
SUMMARY:Drive Agent Results | For Brokers
DESCRIPTION:This webinar is designed for Brokers and Team Leaders (and their Admins!) to learn tactical and strategic approaches using kvCORE to drive agent results and increase adoption of the platform. We’ll cover how to implement a clear path for all types of agents to adopt kvCORE and some fundamentals on how to schedule a kvCORE Day for your office or team!
URL:https://agentbrokerhub.remax.ca/event/drive-agent-results-for-brokers-6/
CATEGORIES:Training,Broker/Owner
ATTACH;FMTTYPE=image/png:https://res.cloudinary.com/remax-prod/images/f_auto,q_auto/v1757518855/abh-canada-prod/Blog-Headers-14-11_61128df5a/Blog-Headers-14-11_61128df5a.png?_i=AA
END:VEVENT
BEGIN:VEVENT
DTSTART;VALUE=DATE:20230213
DTEND;VALUE=DATE:20230214
DTSTAMP:20260425T095828
CREATED:20230104T004033Z
LAST-MODIFIED:20230104T004033Z
UID:10000151-1676246400-1676332799@agentbrokerhub.remax.ca
SUMMARY:Build Your Pipeline
DESCRIPTION:Please join us on this webinar where we’ll show you how you can build out your pipeline with 3 easy ways to add contacts right into kvCORE! \nYou’ll also get tips from an expert on how to prepare your database lists for importing including some best practices to use to re-engage with them once they’ve been added.
URL:https://agentbrokerhub.remax.ca/event/build-your-pipeline-6/
CATEGORIES:Training
ATTACH;FMTTYPE=image/png:https://res.cloudinary.com/remax-prod/images/f_auto,q_auto/v1757542386/abh-canada-prod/Blog-Headers-14-4/Blog-Headers-14-4.png?_i=AA
END:VEVENT
BEGIN:VEVENT
DTSTART;VALUE=DATE:20230213
DTEND;VALUE=DATE:20230214
DTSTAMP:20260425T095828
CREATED:20230104T005233Z
LAST-MODIFIED:20230104T005549Z
UID:10000163-1676246400-1676332799@agentbrokerhub.remax.ca
SUMMARY:Generate New Leads | Free vs. Paid Options
DESCRIPTION:Please join us as we show you how to generate fresh new leads and funnel them right into your kvCORE platform! \nYou’ll learn about both FREE and PAID ways to generate leads.
URL:https://agentbrokerhub.remax.ca/event/generate-new-leads-free-vs-paid-options-webinar-6/
CATEGORIES:Training
ATTACH;FMTTYPE=image/png:https://res.cloudinary.com/remax-prod/images/f_auto,q_auto/v1757552533/abh-canada-prod/Blog-Headers-14-5/Blog-Headers-14-5.png?_i=AA
END:VEVENT
BEGIN:VEVENT
DTSTART;VALUE=DATE:20230213
DTEND;VALUE=DATE:20230214
DTSTAMP:20260425T095828
CREATED:20230104T024833Z
LAST-MODIFIED:20230104T025527Z
UID:10000177-1676246400-1676332799@agentbrokerhub.remax.ca
SUMMARY:Lead Routing & Ponds | For Brokers
DESCRIPTION:Learn how to route your leads right into kvCORE no matter what the source or lead type.\nYou’ll also be introduced to Ponds and learn how you can leverage them as a powerful recruiting tool and lead routing strategy. \n*This session is designed specifically for Company\, Office and Team Admins only.
URL:https://agentbrokerhub.remax.ca/event/lead-routing-ponds-for-brokers-6/
CATEGORIES:Training,Broker/Owner
ATTACH;FMTTYPE=image/png:https://res.cloudinary.com/remax-prod/images/f_auto,q_auto/v1757551018/abh-canada-prod/Blog-Headers-14-10/Blog-Headers-14-10.png?_i=AA
END:VEVENT
BEGIN:VEVENT
DTSTART;VALUE=DATE:20230214
DTEND;VALUE=DATE:20230215
DTSTAMP:20260425T095828
CREATED:20221209T161303Z
LAST-MODIFIED:20230104T001055Z
UID:10000112-1676332800-1676419199@agentbrokerhub.remax.ca
SUMMARY:Ask Me Anything Webinar | MAX/Tech powered by kvCORE
DESCRIPTION:Have a training question about kvCORE? Pop into this open “office hour” session to talk with a product trainer from Inside Real Estate about any tool in kvCORE! \nThis session is dedicated to answering product training questions about the different tools and functionality of kvCORE. Questions like\, “How do I create a landing page that will help me advertise my upcoming Open House?” or “Can you show me where I can add a custom page to my personal website?”\, “Can you show me how to add contacts into kvCORE?” \nThis session is for both Admins and Agent users. All questions are welcome and we’ll do our best to answer all of them! If we have additional resources or webinars\, we’ll help you access those too! Register today!
URL:https://agentbrokerhub.remax.ca/event/ask-me-anything-webinar-max-tech-powered-by-kvcore-10/
CATEGORIES:Training
ATTACH;FMTTYPE=image/png:https://res.cloudinary.com/remax-prod/images/f_auto,q_auto/v1757534355/abh-canada-prod/Blog-Headers-14-1/Blog-Headers-14-1.png?_i=AA
END:VEVENT
BEGIN:VEVENT
DTSTART;VALUE=DATE:20230214
DTEND;VALUE=DATE:20230215
DTSTAMP:20260425T095828
CREATED:20230104T001747Z
LAST-MODIFIED:20230104T001747Z
UID:10000129-1676332800-1676419199@agentbrokerhub.remax.ca
SUMMARY:Power Up Your Automation
DESCRIPTION:Please join us on this webinar where we’ll review and show you how to power up automations in kvCORE to help nurture and convert your leads and contacts 24/7!
URL:https://agentbrokerhub.remax.ca/event/power-up-your-automation-7/
CATEGORIES:Training
ATTACH;FMTTYPE=image/png:https://res.cloudinary.com/remax-prod/images/f_auto,q_auto/v1757620657/abh-canada-prod/Blog-Headers-14-1_5932ca633/Blog-Headers-14-1_5932ca633.png?_i=AA
END:VEVENT
BEGIN:VEVENT
DTSTART;VALUE=DATE:20230214
DTEND;VALUE=DATE:20230215
DTSTAMP:20260425T095828
CREATED:20230104T002214Z
LAST-MODIFIED:20230104T002214Z
UID:10000138-1676332800-1676419199@agentbrokerhub.remax.ca
SUMMARY:How it Works Webinar for Agents | MAX/Tech powered by kvCORE
DESCRIPTION:In this webinar\, you’ll see how easy it is to get started on the new MAX/Tech powered by kvCORE platform and what to expect when you get access to this powerful platform.
URL:https://agentbrokerhub.remax.ca/event/how-it-works-webinar-for-agents-max-tech-powered-by-kvcore-9/
CATEGORIES:Training
ATTACH;FMTTYPE=image/png:https://res.cloudinary.com/remax-prod/images/f_auto,q_auto/v1757541065/abh-canada-prod/Blog-Headers-14-3/Blog-Headers-14-3.png?_i=AA
END:VEVENT
BEGIN:VEVENT
DTSTART;VALUE=DATE:20230215
DTEND;VALUE=DATE:20230216
DTSTAMP:20260425T095828
CREATED:20230118T152930Z
LAST-MODIFIED:20230118T152930Z
UID:10000199-1676419200-1676505599@agentbrokerhub.remax.ca
SUMMARY:Exploring the New Lead Routing Rules from Your RE/MAX National Website
DESCRIPTION:With MAX/Tech powered by kvCORE\, we’ve introduce a new lead routing concept that aligns with the entrepreneurial roots of our brand. In this session you will discover how leads flow from remax.com and remax.ca directly to listing agents and how leads from non-RE/MAX listings are distributed within our network.
URL:https://agentbrokerhub.remax.ca/event/exploring-the-new-lead-routing-rules-from-your-re-max-national-website/
CATEGORIES:Training
ATTACH;FMTTYPE=image/png:https://res.cloudinary.com/remax-prod/images/f_auto,q_auto/v1757583368/abh-canada-prod/173_34432d8952/173_34432d8952.png?_i=AA
END:VEVENT
BEGIN:VEVENT
DTSTART;VALUE=DATE:20230216
DTEND;VALUE=DATE:20230217
DTSTAMP:20260425T095828
CREATED:20230104T025949Z
LAST-MODIFIED:20230104T030736Z
UID:10000190-1676505600-1676591999@agentbrokerhub.remax.ca
SUMMARY:Drive Agent Results | For Brokers
DESCRIPTION:This webinar is designed for Brokers and Team Leaders (and their Admins!) to learn tactical and strategic approaches using kvCORE to drive agent results and increase adoption of the platform. We’ll cover how to implement a clear path for all types of agents to adopt kvCORE and some fundamentals on how to schedule a kvCORE Day for your office or team!
URL:https://agentbrokerhub.remax.ca/event/drive-agent-results-for-brokers-7/
CATEGORIES:Training,Broker/Owner
ATTACH;FMTTYPE=image/png:https://res.cloudinary.com/remax-prod/images/f_auto,q_auto/v1757518855/abh-canada-prod/Blog-Headers-14-11_61128df5a/Blog-Headers-14-11_61128df5a.png?_i=AA
END:VEVENT
BEGIN:VEVENT
DTSTART;VALUE=DATE:20230220
DTEND;VALUE=DATE:20230221
DTSTAMP:20260425T095828
CREATED:20230104T004054Z
LAST-MODIFIED:20230104T004054Z
UID:10000152-1676851200-1676937599@agentbrokerhub.remax.ca
SUMMARY:Build Your Pipeline
DESCRIPTION:Please join us on this webinar where we’ll show you how you can build out your pipeline with 3 easy ways to add contacts right into kvCORE! \nYou’ll also get tips from an expert on how to prepare your database lists for importing including some best practices to use to re-engage with them once they’ve been added.
URL:https://agentbrokerhub.remax.ca/event/build-your-pipeline-7/
CATEGORIES:Training
ATTACH;FMTTYPE=image/png:https://res.cloudinary.com/remax-prod/images/f_auto,q_auto/v1757542386/abh-canada-prod/Blog-Headers-14-4/Blog-Headers-14-4.png?_i=AA
END:VEVENT
BEGIN:VEVENT
DTSTART;VALUE=DATE:20230220
DTEND;VALUE=DATE:20230221
DTSTAMP:20260425T095828
CREATED:20230104T005318Z
LAST-MODIFIED:20230104T005318Z
UID:10000164-1676851200-1676937599@agentbrokerhub.remax.ca
SUMMARY:Generate New Leads | Free vs. Paid Options
DESCRIPTION:Please join us as we show you how to generate fresh new leads and funnel them right into your kvCORE platform! \nYou’ll learn about both FREE and PAID ways to generate leads.
URL:https://agentbrokerhub.remax.ca/event/generate-new-leads-free-vs-paid-options/
CATEGORIES:Training
ATTACH;FMTTYPE=image/png:https://res.cloudinary.com/remax-prod/images/f_auto,q_auto/v1757552533/abh-canada-prod/Blog-Headers-14-5/Blog-Headers-14-5.png?_i=AA
END:VEVENT
BEGIN:VEVENT
DTSTART;VALUE=DATE:20230220
DTEND;VALUE=DATE:20230221
DTSTAMP:20260425T095828
CREATED:20230104T024855Z
LAST-MODIFIED:20230104T025545Z
UID:10000178-1676851200-1676937599@agentbrokerhub.remax.ca
SUMMARY:Lead Routing & Ponds | For Brokers
DESCRIPTION:Learn how to route your leads right into kvCORE no matter what the source or lead type.\nYou’ll also be introduced to Ponds and learn how you can leverage them as a powerful recruiting tool and lead routing strategy. \n*This session is designed specifically for Company\, Office and Team Admins only.
URL:https://agentbrokerhub.remax.ca/event/lead-routing-ponds-for-brokers-7/
CATEGORIES:Training,Broker/Owner
ATTACH;FMTTYPE=image/png:https://res.cloudinary.com/remax-prod/images/f_auto,q_auto/v1757551018/abh-canada-prod/Blog-Headers-14-10/Blog-Headers-14-10.png?_i=AA
END:VEVENT
BEGIN:VEVENT
DTSTART;VALUE=DATE:20230221
DTEND;VALUE=DATE:20230222
DTSTAMP:20260425T095828
CREATED:20221209T161349Z
LAST-MODIFIED:20230104T001028Z
UID:10000113-1676937600-1677023999@agentbrokerhub.remax.ca
SUMMARY:Ask Me Anything Webinar | MAX/Tech powered by kvCORE
DESCRIPTION:Have a training question about kvCORE? Pop into this open “office hour” session to talk with a product trainer from Inside Real Estate about any tool in kvCORE! \nThis session is dedicated to answering product training questions about the different tools and functionality of kvCORE. Questions like\, “How do I create a landing page that will help me advertise my upcoming Open House?” or “Can you show me where I can add a custom page to my personal website?”\, “Can you show me how to add contacts into kvCORE?” \nThis session is for both Admins and Agent users. All questions are welcome and we’ll do our best to answer all of them! If we have additional resources or webinars\, we’ll help you access those too! Register today!
URL:https://agentbrokerhub.remax.ca/event/ask-me-anything-webinar-max-tech-powered-by-kvcore-11/
CATEGORIES:Training
ATTACH;FMTTYPE=image/png:https://res.cloudinary.com/remax-prod/images/f_auto,q_auto/v1757534355/abh-canada-prod/Blog-Headers-14-1/Blog-Headers-14-1.png?_i=AA
END:VEVENT
BEGIN:VEVENT
DTSTART;VALUE=DATE:20230221
DTEND;VALUE=DATE:20230222
DTSTAMP:20260425T095828
CREATED:20230104T002236Z
LAST-MODIFIED:20230104T002236Z
UID:10000139-1676937600-1677023999@agentbrokerhub.remax.ca
SUMMARY:How it Works Webinar for Agents | MAX/Tech powered by kvCORE
DESCRIPTION:In this webinar\, you’ll see how easy it is to get started on the new MAX/Tech powered by kvCORE platform and what to expect when you get access to this powerful platform.
URL:https://agentbrokerhub.remax.ca/event/how-it-works-webinar-for-agents-max-tech-powered-by-kvcore-10/
CATEGORIES:Training
ATTACH;FMTTYPE=image/png:https://res.cloudinary.com/remax-prod/images/f_auto,q_auto/v1757541065/abh-canada-prod/Blog-Headers-14-3/Blog-Headers-14-3.png?_i=AA
END:VEVENT
BEGIN:VEVENT
DTSTART;VALUE=DATE:20230223
DTEND;VALUE=DATE:20230224
DTSTAMP:20260425T095828
CREATED:20230104T030012Z
LAST-MODIFIED:20230104T030819Z
UID:10000191-1677110400-1677196799@agentbrokerhub.remax.ca
SUMMARY:Drive Agent Results | For Brokers
DESCRIPTION:This webinar is designed for Brokers and Team Leaders (and their Admins!) to learn tactical and strategic approaches using kvCORE to drive agent results and increase adoption of the platform. We’ll cover how to implement a clear path for all types of agents to adopt kvCORE and some fundamentals on how to schedule a kvCORE Day for your office or team!
URL:https://agentbrokerhub.remax.ca/event/drive-agent-results-for-brokers-8/
CATEGORIES:Training,Broker/Owner
ATTACH;FMTTYPE=image/png:https://res.cloudinary.com/remax-prod/images/f_auto,q_auto/v1757518855/abh-canada-prod/Blog-Headers-14-11_61128df5a/Blog-Headers-14-11_61128df5a.png?_i=AA
END:VEVENT
BEGIN:VEVENT
DTSTART;VALUE=DATE:20230227
DTEND;VALUE=DATE:20230228
DTSTAMP:20260425T095828
CREATED:20230104T004125Z
LAST-MODIFIED:20230104T004125Z
UID:10000153-1677456000-1677542399@agentbrokerhub.remax.ca
SUMMARY:Build Your Pipeline
DESCRIPTION:Please join us on this webinar where we’ll show you how you can build out your pipeline with 3 easy ways to add contacts right into kvCORE! \nYou’ll also get tips from an expert on how to prepare your database lists for importing including some best practices to use to re-engage with them once they’ve been added.
URL:https://agentbrokerhub.remax.ca/event/build-your-pipeline-8/
CATEGORIES:Training
ATTACH;FMTTYPE=image/png:https://res.cloudinary.com/remax-prod/images/f_auto,q_auto/v1757542386/abh-canada-prod/Blog-Headers-14-4/Blog-Headers-14-4.png?_i=AA
END:VEVENT
BEGIN:VEVENT
DTSTART;VALUE=DATE:20230227
DTEND;VALUE=DATE:20230228
DTSTAMP:20260425T095828
CREATED:20230104T005640Z
LAST-MODIFIED:20230104T005640Z
UID:10000165-1677456000-1677542399@agentbrokerhub.remax.ca
SUMMARY:Generate New Leads | Free vs. Paid Options
DESCRIPTION:Please join us as we show you how to generate fresh new leads and funnel them right into your kvCORE platform! \nYou’ll learn about both FREE and PAID ways to generate leads.
URL:https://agentbrokerhub.remax.ca/event/generate-new-leads-free-vs-paid-options-2/
CATEGORIES:Training
ATTACH;FMTTYPE=image/png:https://res.cloudinary.com/remax-prod/images/f_auto,q_auto/v1757552533/abh-canada-prod/Blog-Headers-14-5/Blog-Headers-14-5.png?_i=AA
END:VEVENT
BEGIN:VEVENT
DTSTART;VALUE=DATE:20230227
DTEND;VALUE=DATE:20230228
DTSTAMP:20260425T095828
CREATED:20230104T024917Z
LAST-MODIFIED:20230104T025607Z
UID:10000179-1677456000-1677542399@agentbrokerhub.remax.ca
SUMMARY:Lead Routing & Ponds | For Brokers
DESCRIPTION:Learn how to route your leads right into kvCORE no matter what the source or lead type.\nYou’ll also be introduced to Ponds and learn how you can leverage them as a powerful recruiting tool and lead routing strategy. \n*This session is designed specifically for Company\, Office and Team Admins only.
URL:https://agentbrokerhub.remax.ca/event/lead-routing-ponds-for-brokers-8/
CATEGORIES:Training,Broker/Owner
ATTACH;FMTTYPE=image/png:https://res.cloudinary.com/remax-prod/images/f_auto,q_auto/v1757551018/abh-canada-prod/Blog-Headers-14-10/Blog-Headers-14-10.png?_i=AA
END:VEVENT
BEGIN:VEVENT
DTSTART;VALUE=DATE:20230228
DTEND;VALUE=DATE:20230301
DTSTAMP:20260425T095828
CREATED:20221209T161433Z
LAST-MODIFIED:20230104T000956Z
UID:10000114-1677542400-1677628799@agentbrokerhub.remax.ca
SUMMARY:Ask Me Anything Webinar | MAX/Tech powered by kvCORE
DESCRIPTION:Have a training question about kvCORE? Pop into this open “office hour” session to talk with a product trainer from Inside Real Estate about any tool in kvCORE! \nThis session is dedicated to answering product training questions about the different tools and functionality of kvCORE. Questions like\, “How do I create a landing page that will help me advertise my upcoming Open House?” or “Can you show me where I can add a custom page to my personal website?”\, “Can you show me how to add contacts into kvCORE?” \nThis session is for both Admins and Agent users. All questions are welcome and we’ll do our best to answer all of them! If we have additional resources or webinars\, we’ll help you access those too! Register today!
URL:https://agentbrokerhub.remax.ca/event/ask-me-anything-webinar-max-tech-powered-by-kvcore-12/
CATEGORIES:Training
ATTACH;FMTTYPE=image/png:https://res.cloudinary.com/remax-prod/images/f_auto,q_auto/v1757534355/abh-canada-prod/Blog-Headers-14-1/Blog-Headers-14-1.png?_i=AA
END:VEVENT
BEGIN:VEVENT
DTSTART;VALUE=DATE:20230228
DTEND;VALUE=DATE:20230301
DTSTAMP:20260425T095828
CREATED:20230104T001729Z
LAST-MODIFIED:20230104T001729Z
UID:10000130-1677542400-1677628799@agentbrokerhub.remax.ca
SUMMARY:Power Up Your Automation
DESCRIPTION:Please join us on this webinar where we’ll review and show you how to power up automations in kvCORE to help nurture and convert your leads and contacts 24/7!
URL:https://agentbrokerhub.remax.ca/event/power-up-your-automation-6/
CATEGORIES:Training
ATTACH;FMTTYPE=image/png:https://res.cloudinary.com/remax-prod/images/f_auto,q_auto/v1757620657/abh-canada-prod/Blog-Headers-14-1_5932ca633/Blog-Headers-14-1_5932ca633.png?_i=AA
END:VEVENT
BEGIN:VEVENT
DTSTART;VALUE=DATE:20230228
DTEND;VALUE=DATE:20230301
DTSTAMP:20260425T095828
CREATED:20230104T002257Z
LAST-MODIFIED:20230104T002257Z
UID:10000140-1677542400-1677628799@agentbrokerhub.remax.ca
SUMMARY:How it Works Webinar for Agents | MAX/Tech powered by kvCORE
DESCRIPTION:In this webinar\, you’ll see how easy it is to get started on the new MAX/Tech powered by kvCORE platform and what to expect when you get access to this powerful platform.
URL:https://agentbrokerhub.remax.ca/event/how-it-works-webinar-for-agents-max-tech-powered-by-kvcore-11/
CATEGORIES:Training
ATTACH;FMTTYPE=image/png:https://res.cloudinary.com/remax-prod/images/f_auto,q_auto/v1757541065/abh-canada-prod/Blog-Headers-14-3/Blog-Headers-14-3.png?_i=AA
END:VEVENT
END:VCALENDAR