BEGIN:VCALENDAR
VERSION:2.0
PRODID:-//REMAX Canada Agent Broker Hub - ECPv6.15.17.1//NONSGML v1.0//EN
CALSCALE:GREGORIAN
METHOD:PUBLISH
X-WR-CALNAME:REMAX Canada Agent Broker Hub
X-ORIGINAL-URL:https://agentbrokerhub.remax.ca
X-WR-CALDESC:Events for REMAX Canada Agent Broker Hub
REFRESH-INTERVAL;VALUE=DURATION:PT1H
X-Robots-Tag:noindex
X-PUBLISHED-TTL:PT1H
BEGIN:VTIMEZONE
TZID:America/Toronto
BEGIN:DAYLIGHT
TZOFFSETFROM:-0500
TZOFFSETTO:-0400
TZNAME:EDT
DTSTART:20250309T070000
END:DAYLIGHT
BEGIN:STANDARD
TZOFFSETFROM:-0400
TZOFFSETTO:-0500
TZNAME:EST
DTSTART:20251102T060000
END:STANDARD
BEGIN:DAYLIGHT
TZOFFSETFROM:-0500
TZOFFSETTO:-0400
TZNAME:EDT
DTSTART:20260308T070000
END:DAYLIGHT
BEGIN:STANDARD
TZOFFSETFROM:-0400
TZOFFSETTO:-0500
TZNAME:EST
DTSTART:20261101T060000
END:STANDARD
BEGIN:DAYLIGHT
TZOFFSETFROM:-0500
TZOFFSETTO:-0400
TZNAME:EDT
DTSTART:20270314T070000
END:DAYLIGHT
BEGIN:STANDARD
TZOFFSETFROM:-0400
TZOFFSETTO:-0500
TZNAME:EST
DTSTART:20271107T060000
END:STANDARD
END:VTIMEZONE
BEGIN:VEVENT
DTSTART;TZID=America/Toronto:20260422T000000
DTEND;TZID=America/Toronto:20260424T000000
DTSTAMP:20260422T080025
CREATED:20260319T210539Z
LAST-MODIFIED:20260319T210539Z
UID:10000705-1776816000-1776988800@agentbrokerhub.remax.ca
SUMMARY:2026 REMAX Global Commercial Symposium
DESCRIPTION:One Global Network.\nThree Days.\nUnlimited perspective. \n\n\n\n\n\n\n\n\n\n\n\n\nThe REMAX Global Commercial Symposium returns in 2026 — bringing together leaders\, innovators and rising professionals for impactful insights\, meaningful collaboration and global connections.
URL:https://agentbrokerhub.remax.ca/event/2026-remax-global-commercial-symposium/
CATEGORIES:Training,Networking,Broker/Owner,Agents
ATTACH;FMTTYPE=image/avif:https://res.cloudinary.com/remax-prod/images/f_auto,q_auto/v1773954207/abh-canada-prod/25_495-CML-Symposium-STD-PPT-jm-2-2/25_495-CML-Symposium-STD-PPT-jm-2-2.avif?_i=AA
END:VEVENT
END:VCALENDAR